BEGIN:VCALENDAR
VERSION:2.0
PRODID:-//ETU Victoria - ECPv6.15.20//NONSGML v1.0//EN
CALSCALE:GREGORIAN
METHOD:PUBLISH
X-ORIGINAL-URL:https://www.etuvic.com.au
X-WR-CALDESC:Events for ETU Victoria
REFRESH-INTERVAL;VALUE=DURATION:PT1H
X-Robots-Tag:noindex
X-PUBLISHED-TTL:PT1H
BEGIN:VTIMEZONE
TZID:Australia/Melbourne
BEGIN:STANDARD
TZOFFSETFROM:+1100
TZOFFSETTO:+1000
TZNAME:AEST
DTSTART:20280401T160000
END:STANDARD
BEGIN:DAYLIGHT
TZOFFSETFROM:+1000
TZOFFSETTO:+1100
TZNAME:AEDT
DTSTART:20280930T160000
END:DAYLIGHT
BEGIN:STANDARD
TZOFFSETFROM:+1100
TZOFFSETTO:+1000
TZNAME:AEST
DTSTART:20290331T160000
END:STANDARD
BEGIN:DAYLIGHT
TZOFFSETFROM:+1000
TZOFFSETTO:+1100
TZNAME:AEDT
DTSTART:20291006T160000
END:DAYLIGHT
BEGIN:STANDARD
TZOFFSETFROM:+1100
TZOFFSETTO:+1000
TZNAME:AEST
DTSTART:20300406T160000
END:STANDARD
BEGIN:DAYLIGHT
TZOFFSETFROM:+1000
TZOFFSETTO:+1100
TZNAME:AEDT
DTSTART:20301005T160000
END:DAYLIGHT
END:VTIMEZONE
BEGIN:VEVENT
DTSTART;VALUE=DATE:20290101
DTEND;VALUE=DATE:20290102
DTSTAMP:20260424T173705
CREATED:20250903T043837Z
LAST-MODIFIED:20250903T043837Z
UID:10000238-1861920000-1862006399@www.etuvic.com.au
SUMMARY:New Years Day - Public Holiday - January 1\, 2029
DESCRIPTION:
URL:https://www.etuvic.com.au/event/new-years-day-public-holiday-january-1-2029/
CATEGORIES:Public Holidays
END:VEVENT
BEGIN:VEVENT
DTSTART;VALUE=DATE:20290126
DTEND;VALUE=DATE:20290127
DTSTAMP:20260424T173705
CREATED:20250903T044225Z
LAST-MODIFIED:20250903T052855Z
UID:10000242-1864080000-1864166399@www.etuvic.com.au
SUMMARY:Australia Day - Public Holiday - January 26\, 2029
DESCRIPTION:
URL:https://www.etuvic.com.au/event/australia-day-public-holiday-january-26-2029/
CATEGORIES:Public Holidays
END:VEVENT
END:VCALENDAR