BEGIN:VCALENDAR
VERSION:2.0
PRODID:-//ETU Victoria - ECPv6.15.20//NONSGML v1.0//EN
CALSCALE:GREGORIAN
METHOD:PUBLISH
X-ORIGINAL-URL:https://www.etuvic.com.au
X-WR-CALDESC:Events for ETU Victoria
REFRESH-INTERVAL;VALUE=DURATION:PT1H
X-Robots-Tag:noindex
X-PUBLISHED-TTL:PT1H
BEGIN:VTIMEZONE
TZID:Australia/Melbourne
BEGIN:STANDARD
TZOFFSETFROM:+1100
TZOFFSETTO:+1000
TZNAME:AEST
DTSTART:20270403T160000
END:STANDARD
BEGIN:DAYLIGHT
TZOFFSETFROM:+1000
TZOFFSETTO:+1100
TZNAME:AEDT
DTSTART:20271002T160000
END:DAYLIGHT
BEGIN:STANDARD
TZOFFSETFROM:+1100
TZOFFSETTO:+1000
TZNAME:AEST
DTSTART:20280401T160000
END:STANDARD
BEGIN:DAYLIGHT
TZOFFSETFROM:+1000
TZOFFSETTO:+1100
TZNAME:AEDT
DTSTART:20280930T160000
END:DAYLIGHT
BEGIN:STANDARD
TZOFFSETFROM:+1100
TZOFFSETTO:+1000
TZNAME:AEST
DTSTART:20290331T160000
END:STANDARD
BEGIN:DAYLIGHT
TZOFFSETFROM:+1000
TZOFFSETTO:+1100
TZNAME:AEDT
DTSTART:20291006T160000
END:DAYLIGHT
END:VTIMEZONE
BEGIN:VEVENT
DTSTART;VALUE=DATE:20280414
DTEND;VALUE=DATE:20280415
DTSTAMP:20260424T043929
CREATED:20250903T053922Z
LAST-MODIFIED:20250903T053922Z
UID:10000249-1839283200-1839369599@www.etuvic.com.au
SUMMARY:Good Friday - Public Holiday - April 14\, 2028
DESCRIPTION:
URL:https://www.etuvic.com.au/event/good-friday-public-holiday-april-14-2028/
CATEGORIES:Public Holidays
END:VEVENT
BEGIN:VEVENT
DTSTART;VALUE=DATE:20280415
DTEND;VALUE=DATE:20280416
DTSTAMP:20260424T043929
CREATED:20250903T054343Z
LAST-MODIFIED:20250903T054343Z
UID:10000253-1839369600-1839455999@www.etuvic.com.au
SUMMARY:Easter Saturday - Public Holiday - April 15\, 2028
DESCRIPTION:
URL:https://www.etuvic.com.au/event/easter-saturday-public-holiday-april-15-2028/
CATEGORIES:Public Holidays
END:VEVENT
BEGIN:VEVENT
DTSTART;VALUE=DATE:20280416
DTEND;VALUE=DATE:20280417
DTSTAMP:20260424T043929
CREATED:20250903T054735Z
LAST-MODIFIED:20250903T054735Z
UID:10000257-1839456000-1839542399@www.etuvic.com.au
SUMMARY:Easter Sunday - Public Holiday - April 16\, 2028
DESCRIPTION:
URL:https://www.etuvic.com.au/event/easter-sunday-public-holiday-april-16-2028/
CATEGORIES:Public Holidays
END:VEVENT
BEGIN:VEVENT
DTSTART;VALUE=DATE:20280417
DTEND;VALUE=DATE:20280418
DTSTAMP:20260424T043929
CREATED:20250903T055201Z
LAST-MODIFIED:20250903T055201Z
UID:10000261-1839542400-1839628799@www.etuvic.com.au
SUMMARY:Easter Monday - Public Holiday - April 17\, 2028
DESCRIPTION:
URL:https://www.etuvic.com.au/event/easter-monday-public-holiday-april-17-2028/
CATEGORIES:Public Holidays
END:VEVENT
BEGIN:VEVENT
DTSTART;VALUE=DATE:20280425
DTEND;VALUE=DATE:20280426
DTSTAMP:20260424T043929
CREATED:20250903T055611Z
LAST-MODIFIED:20250903T055611Z
UID:10000265-1840233600-1840319999@www.etuvic.com.au
SUMMARY:Anzac Day - Public Holiday - April 25\, 2028
DESCRIPTION:
URL:https://www.etuvic.com.au/event/anzac-day-public-holiday-april-25-2028/
CATEGORIES:Public Holidays
END:VEVENT
END:VCALENDAR