BEGIN:VCALENDAR
VERSION:2.0
PRODID:-//ETU Victoria - ECPv6.15.20//NONSGML v1.0//EN
CALSCALE:GREGORIAN
METHOD:PUBLISH
X-WR-CALNAME:ETU Victoria
X-ORIGINAL-URL:https://www.etuvic.com.au
X-WR-CALDESC:Events for ETU Victoria
REFRESH-INTERVAL;VALUE=DURATION:PT1H
X-Robots-Tag:noindex
X-PUBLISHED-TTL:PT1H
BEGIN:VTIMEZONE
TZID:Australia/Melbourne
BEGIN:STANDARD
TZOFFSETFROM:+1100
TZOFFSETTO:+1000
TZNAME:AEST
DTSTART:20260404T160000
END:STANDARD
BEGIN:DAYLIGHT
TZOFFSETFROM:+1000
TZOFFSETTO:+1100
TZNAME:AEDT
DTSTART:20261003T160000
END:DAYLIGHT
BEGIN:STANDARD
TZOFFSETFROM:+1100
TZOFFSETTO:+1000
TZNAME:AEST
DTSTART:20270403T160000
END:STANDARD
BEGIN:DAYLIGHT
TZOFFSETFROM:+1000
TZOFFSETTO:+1100
TZNAME:AEDT
DTSTART:20271002T160000
END:DAYLIGHT
BEGIN:STANDARD
TZOFFSETFROM:+1100
TZOFFSETTO:+1000
TZNAME:AEST
DTSTART:20280401T160000
END:STANDARD
BEGIN:DAYLIGHT
TZOFFSETFROM:+1000
TZOFFSETTO:+1100
TZNAME:AEDT
DTSTART:20280930T160000
END:DAYLIGHT
END:VTIMEZONE
BEGIN:VEVENT
DTSTART;VALUE=DATE:20270308
DTEND;VALUE=DATE:20270309
DTSTAMP:20260423T085340
CREATED:20250903T053410Z
LAST-MODIFIED:20250903T053410Z
UID:10000244-1804464000-1804550399@www.etuvic.com.au
SUMMARY:Labour Day - Public Holiday - March 8\, 2027
DESCRIPTION:
URL:https://www.etuvic.com.au/event/labour-day-public-holiday-march-8-2027/
CATEGORIES:Public Holidays
END:VEVENT
BEGIN:VEVENT
DTSTART;VALUE=DATE:20270326
DTEND;VALUE=DATE:20270327
DTSTAMP:20260423T085340
CREATED:20250903T053815Z
LAST-MODIFIED:20250903T053815Z
UID:10000248-1806019200-1806105599@www.etuvic.com.au
SUMMARY:Good Friday - Public Holiday - March 26\, 2027
DESCRIPTION:
URL:https://www.etuvic.com.au/event/good-friday-public-holiday-march-26-2027/
CATEGORIES:Public Holidays
END:VEVENT
BEGIN:VEVENT
DTSTART;VALUE=DATE:20270327
DTEND;VALUE=DATE:20270328
DTSTAMP:20260423T085340
CREATED:20250903T054247Z
LAST-MODIFIED:20250903T054247Z
UID:10000252-1806105600-1806191999@www.etuvic.com.au
SUMMARY:Easter Saturday - Public Holiday - March 27\, 2027
DESCRIPTION:
URL:https://www.etuvic.com.au/event/easter-saturday-public-holiday-march-27-2027/
CATEGORIES:Public Holidays
END:VEVENT
BEGIN:VEVENT
DTSTART;VALUE=DATE:20270328
DTEND;VALUE=DATE:20270329
DTSTAMP:20260423T085340
CREATED:20250903T054634Z
LAST-MODIFIED:20250903T054634Z
UID:10000256-1806192000-1806278399@www.etuvic.com.au
SUMMARY:Easter Sunday - Public Holiday - March 28\, 2027
DESCRIPTION:
URL:https://www.etuvic.com.au/event/easter-sunday-public-holiday-march-28-2027/
CATEGORIES:Public Holidays
END:VEVENT
BEGIN:VEVENT
DTSTART;VALUE=DATE:20270329
DTEND;VALUE=DATE:20270330
DTSTAMP:20260423T085340
CREATED:20250903T055101Z
LAST-MODIFIED:20250903T055101Z
UID:10000260-1806278400-1806364799@www.etuvic.com.au
SUMMARY:Easter Monday - Public Holiday - March 29\, 2027
DESCRIPTION:
URL:https://www.etuvic.com.au/event/easter-monday-public-holiday-march-29-2027/
CATEGORIES:Public Holidays
END:VEVENT
END:VCALENDAR