BEGIN:VCALENDAR
VERSION:2.0
PRODID:-//ETU Victoria - ECPv6.15.20//NONSGML v1.0//EN
CALSCALE:GREGORIAN
METHOD:PUBLISH
X-WR-CALNAME:ETU Victoria
X-ORIGINAL-URL:https://www.etuvic.com.au
X-WR-CALDESC:Events for ETU Victoria
REFRESH-INTERVAL;VALUE=DURATION:PT1H
X-Robots-Tag:noindex
X-PUBLISHED-TTL:PT1H
BEGIN:VTIMEZONE
TZID:Australia/Melbourne
BEGIN:STANDARD
TZOFFSETFROM:+1100
TZOFFSETTO:+1000
TZNAME:AEST
DTSTART:20240406T160000
END:STANDARD
BEGIN:DAYLIGHT
TZOFFSETFROM:+1000
TZOFFSETTO:+1100
TZNAME:AEDT
DTSTART:20241005T160000
END:DAYLIGHT
BEGIN:STANDARD
TZOFFSETFROM:+1100
TZOFFSETTO:+1000
TZNAME:AEST
DTSTART:20250405T160000
END:STANDARD
BEGIN:DAYLIGHT
TZOFFSETFROM:+1000
TZOFFSETTO:+1100
TZNAME:AEDT
DTSTART:20251004T160000
END:DAYLIGHT
BEGIN:STANDARD
TZOFFSETFROM:+1100
TZOFFSETTO:+1000
TZNAME:AEST
DTSTART:20260404T160000
END:STANDARD
BEGIN:DAYLIGHT
TZOFFSETFROM:+1000
TZOFFSETTO:+1100
TZNAME:AEDT
DTSTART:20261003T160000
END:DAYLIGHT
END:VTIMEZONE
BEGIN:VEVENT
DTSTART;VALUE=DATE:20250418
DTEND;VALUE=DATE:20250419
DTSTAMP:20260420T011440
CREATED:20250327T010838Z
LAST-MODIFIED:20250327T014904Z
UID:10000029-1744934400-1745020799@www.etuvic.com.au
SUMMARY:Good Friday - Public Holiday - April 18\, 2025
DESCRIPTION:
URL:https://www.etuvic.com.au/event/good-friday-april-18-2025/
CATEGORIES:Public Holidays
END:VEVENT
BEGIN:VEVENT
DTSTART;VALUE=DATE:20250419
DTEND;VALUE=DATE:20250420
DTSTAMP:20260420T011440
CREATED:20250327T021621Z
LAST-MODIFIED:20250327T021621Z
UID:10000045-1745020800-1745107199@www.etuvic.com.au
SUMMARY:Easter Saturday - Public Holiday - April 19\, 2025
DESCRIPTION:
URL:https://www.etuvic.com.au/event/easter-saturday-public-holiday-april-19-2025/
CATEGORIES:Public Holidays
END:VEVENT
BEGIN:VEVENT
DTSTART;VALUE=DATE:20250420
DTEND;VALUE=DATE:20250421
DTSTAMP:20260420T011440
CREATED:20250327T021502Z
LAST-MODIFIED:20250327T021555Z
UID:10000044-1745107200-1745193599@www.etuvic.com.au
SUMMARY:Easter Sunday - Public Holiday - April 20\, 2025
DESCRIPTION:
URL:https://www.etuvic.com.au/event/easter-sunday-public-holiday-april-20-2025/
CATEGORIES:Public Holidays
END:VEVENT
BEGIN:VEVENT
DTSTART;VALUE=DATE:20250421
DTEND;VALUE=DATE:20250422
DTSTAMP:20260420T011440
CREATED:20250327T011000Z
LAST-MODIFIED:20250327T021430Z
UID:10000030-1745193600-1745279999@www.etuvic.com.au
SUMMARY:Easter Monday - Public Holiday - April 21\, 2025
DESCRIPTION:
URL:https://www.etuvic.com.au/event/easter-april-21-2025/
CATEGORIES:Public Holidays
END:VEVENT
BEGIN:VEVENT
DTSTART;VALUE=DATE:20250425
DTEND;VALUE=DATE:20250426
DTSTAMP:20260420T011440
CREATED:20250327T011142Z
LAST-MODIFIED:20250327T014847Z
UID:10000031-1745539200-1745625599@www.etuvic.com.au
SUMMARY:Anzac Day - Public Holiday - April 25\, 2025
DESCRIPTION:
URL:https://www.etuvic.com.au/event/anzac-day-april-25-2025/
CATEGORIES:Public Holidays
END:VEVENT
END:VCALENDAR